BEGIN:VCALENDAR
VERSION:2.0
PRODID:-//Local Yard &amp; Garden Resources - ECPv6.15.20//NONSGML v1.0//EN
CALSCALE:GREGORIAN
METHOD:PUBLISH
X-ORIGINAL-URL:https://localyardandgarden.com
X-WR-CALDESC:Events for Local Yard &amp; Garden Resources
REFRESH-INTERVAL;VALUE=DURATION:PT1H
X-Robots-Tag:noindex
X-PUBLISHED-TTL:PT1H
BEGIN:VTIMEZONE
TZID:America/Phoenix
BEGIN:STANDARD
TZOFFSETFROM:-0700
TZOFFSETTO:-0700
TZNAME:MST
DTSTART:20200101T000000
END:STANDARD
END:VTIMEZONE
BEGIN:VEVENT
DTSTART;TZID=America/Phoenix:20211128T100000
DTEND;TZID=America/Phoenix:20211128T110000
DTSTAMP:20260421T093854
CREATED:20210929T012237Z
LAST-MODIFIED:20211128T202300Z
UID:5327-1638093600-1638097200@localyardandgarden.com
SUMMARY:Tour | Walk in the Gardens
DESCRIPTION:Experience Tohono Chul while learning some of the basics of the ecology of the Sonoran Desert.
URL:https://localyardandgarden.com/event/tour-walk-in-the-gardens-159
LOCATION:Tohono Chul\, 7366 N. Paseo del Norte\, Tucson\, AZ\, 85704\, United States
CATEGORIES:Tour
END:VEVENT
BEGIN:VEVENT
DTSTART;TZID=America/Phoenix:20211128T110000
DTEND;TZID=America/Phoenix:20211128T120000
DTSTAMP:20260421T093854
CREATED:20210929T012237Z
LAST-MODIFIED:20211128T202300Z
UID:5328-1638097200-1638100800@localyardandgarden.com
SUMMARY:Tour | Butterflies and Their Plants
DESCRIPTION:Nature lovers\, shutterbugs\, and bug lovers will get an in-depth glimpse of some of the most engaging creatures in the Sonoran Desert\, butterflies!
URL:https://localyardandgarden.com/event/tour-butterflies-and-their-plants-18
LOCATION:Tohono Chul\, 7366 N. Paseo del Norte\, Tucson\, AZ\, 85704\, United States
CATEGORIES:Tour
END:VEVENT
BEGIN:VEVENT
DTSTART;TZID=America/Phoenix:20211128T120000
DTEND;TZID=America/Phoenix:20211128T130000
DTSTAMP:20260421T093854
CREATED:20210929T012237Z
LAST-MODIFIED:20211128T202300Z
UID:5329-1638100800-1638104400@localyardandgarden.com
SUMMARY:Tour | Art in the Gardens
DESCRIPTION:Meander the trails and paths in search of both permanent and changing outdoor sculptures.
URL:https://localyardandgarden.com/event/tour-art-in-the-gardens-9
LOCATION:Tohono Chul\, 7366 N. Paseo del Norte\, Tucson\, AZ\, 85704\, United States
CATEGORIES:Tour
END:VEVENT
BEGIN:VEVENT
DTSTART;TZID=America/Phoenix:20211128T133000
DTEND;TZID=America/Phoenix:20211128T150000
DTSTAMP:20260421T093854
CREATED:20210929T012237Z
LAST-MODIFIED:20211128T202300Z
UID:5330-1638106200-1638111600@localyardandgarden.com
SUMMARY:Sundays in the Garden | Emily Anderson
DESCRIPTION:Join us for our annual Sundays in the Garden Concert Fall Concert Series featuring the music of Emily Anderson. The concert is free with admission and free for members as one of the many amazing membership benefits. \nBe sure to visit the cash bar for beer and wine\, prickly pear lemonade\, and our famous prickly pear margaritas. Treat yourself to a wonderful afternoon outdoors\, sipping wine\, and listening to live music. Seating is limited\, so please arrive early. The concert series is brought you in part by the Tucson Guitar Society. \nMasks are required for this event because social distancing is not possible in the Performance Garden.\n  \n \n  \n  \nAbout Emily Anderson\nAn encounter with Emily Anderson’s music is unmistakably a magical affair. And while she has no shortage of credentials to back the claim—a gifted multi-instrumentalist\, prolific songwriter\, and graduate of the esteemed Berklee College of Music in Boston—Emily has in tandem something arguably more important: something pure\, distinct\, and extraordinary to show us. \nLike stumbling into a rose garden on a trek through the arctic\, listeners of Emily’s music find themselves helplessly lifted into a world so hauntingly familiar\, and yet so enchantingly curious. With a voice of untouchable purity and lyricism of remarkable wit and poignancy\, Emily cradles matters of the human heart with an almost impossible sweetness.
URL:https://localyardandgarden.com/event/sundays-in-the-garden-emily-anderson
LOCATION:Tohono Chul – Performance Garden\, 7366 N. Paseo del Norte\, Tucson\, AZ\, 85704\, United States
CATEGORIES:Special Event
ATTACH;FMTTYPE=image/jpeg:https://localyardandgarden.com/wp-content/uploads/Sundays-Website-Homepage_FY20-mzQdwp.tmp_.jpg
END:VEVENT
END:VCALENDAR