BEGIN:VCALENDAR
VERSION:2.0
PRODID:-//Local Yard &amp; Garden Resources - ECPv6.15.20//NONSGML v1.0//EN
CALSCALE:GREGORIAN
METHOD:PUBLISH
X-ORIGINAL-URL:https://localyardandgarden.com
X-WR-CALDESC:Events for Local Yard &amp; Garden Resources
REFRESH-INTERVAL;VALUE=DURATION:PT1H
X-Robots-Tag:noindex
X-PUBLISHED-TTL:PT1H
BEGIN:VTIMEZONE
TZID:America/Phoenix
BEGIN:STANDARD
TZOFFSETFROM:-0700
TZOFFSETTO:-0700
TZNAME:MST
DTSTART:20200101T000000
END:STANDARD
END:VTIMEZONE
BEGIN:VEVENT
DTSTART;TZID=America/Phoenix:20211127T083000
DTEND;TZID=America/Phoenix:20211127T093000
DTSTAMP:20260423T043323
CREATED:20210928T012213Z
LAST-MODIFIED:20211127T202129Z
UID:5318-1638001800-1638005400@localyardandgarden.com
SUMMARY:Tour | Birds of Tohono Chul
DESCRIPTION:Learn to identify residents and those just passing through\, plus information on habits and habitat. \nDownload Tohono Chul Bird Checklist (PDF)
URL:https://localyardandgarden.com/event/tour-birds-of-tohono-chul-34
LOCATION:Tohono Chul\, 7366 N. Paseo del Norte\, Tucson\, AZ\, 85704\, United States
CATEGORIES:Tour
END:VEVENT
BEGIN:VEVENT
DTSTART;TZID=America/Phoenix:20211127T090000
DTEND;TZID=America/Phoenix:20211127T100000
DTSTAMP:20260423T043323
CREATED:20210928T012213Z
LAST-MODIFIED:20211127T202129Z
UID:5319-1638003600-1638007200@localyardandgarden.com
SUMMARY:Tour | Desert Landscaping
DESCRIPTION:Unearth the how-tos for using native and arid-adapted plants in water-saving landscapes.
URL:https://localyardandgarden.com/event/tour-desert-landscaping-9
LOCATION:Tohono Chul\, 7366 N. Paseo del Norte\, Tucson\, AZ\, 85704\, United States
CATEGORIES:Tour
END:VEVENT
BEGIN:VEVENT
DTSTART;TZID=America/Phoenix:20211127T100000
DTEND;TZID=America/Phoenix:20211127T110000
DTSTAMP:20260423T043323
CREATED:20210928T012213Z
LAST-MODIFIED:20211127T202129Z
UID:5320-1638007200-1638010800@localyardandgarden.com
SUMMARY:Tour | Walk in the Gardens
DESCRIPTION:Experience Tohono Chul while learning some of the basics of the ecology of the Sonoran Desert.
URL:https://localyardandgarden.com/event/tour-walk-in-the-gardens-156
LOCATION:Tohono Chul\, 7366 N. Paseo del Norte\, Tucson\, AZ\, 85704\, United States
CATEGORIES:Tour
END:VEVENT
BEGIN:VEVENT
DTSTART;TZID=America/Phoenix:20211127T100000
DTEND;TZID=America/Phoenix:20211127T110000
DTSTAMP:20260423T043323
CREATED:20210928T012213Z
LAST-MODIFIED:20211025T165743Z
UID:5321-1638007200-1638010800@localyardandgarden.com
SUMMARY:Tour | Wildflowers: What’s Bloomin’?
DESCRIPTION:Bring your camera to capture the colors of spring and develop more than a nodding acquaintance with our annual wildflowers. \nView the Wildflower ID Guide here.
URL:https://localyardandgarden.com/event/tour-wildflowers-whats-bloomin-24
LOCATION:Tohono Chul\, 7366 N. Paseo del Norte\, Tucson\, AZ\, 85704\, United States
CATEGORIES:Tour
END:VEVENT
BEGIN:VEVENT
DTSTART;TZID=America/Phoenix:20211127T110000
DTEND;TZID=America/Phoenix:20211127T120000
DTSTAMP:20260423T043323
CREATED:20210928T012213Z
LAST-MODIFIED:20211127T202129Z
UID:5322-1638010800-1638014400@localyardandgarden.com
SUMMARY:Tour | Butterflies and Their Plants
DESCRIPTION:Nature lovers\, shutterbugs\, and bug lovers will get an in-depth glimpse of some of the most engaging creatures in the Sonoran Desert\, butterflies!
URL:https://localyardandgarden.com/event/tour-butterflies-and-their-plants-17
LOCATION:Tohono Chul\, 7366 N. Paseo del Norte\, Tucson\, AZ\, 85704\, United States
CATEGORIES:Tour
END:VEVENT
BEGIN:VEVENT
DTSTART;TZID=America/Phoenix:20211127T120000
DTEND;TZID=America/Phoenix:20211127T130000
DTSTAMP:20260423T043323
CREATED:20210928T012213Z
LAST-MODIFIED:20211127T202129Z
UID:5323-1638014400-1638018000@localyardandgarden.com
SUMMARY:Tour | Walk in the Gardens
DESCRIPTION:Experience Tohono Chul while learning some of the basics of the ecology of the Sonoran Desert.
URL:https://localyardandgarden.com/event/tour-walk-in-the-gardens-157
LOCATION:Tohono Chul\, 7366 N. Paseo del Norte\, Tucson\, AZ\, 85704\, United States
CATEGORIES:Tour
END:VEVENT
BEGIN:VEVENT
DTSTART;TZID=America/Phoenix:20211127T140000
DTEND;TZID=America/Phoenix:20211127T150000
DTSTAMP:20260423T043323
CREATED:20210928T012213Z
LAST-MODIFIED:20211127T202129Z
UID:5324-1638021600-1638025200@localyardandgarden.com
SUMMARY:Tour | Walk in the Gardens
DESCRIPTION:Experience Tohono Chul while learning some of the basics of the ecology of the Sonoran Desert.
URL:https://localyardandgarden.com/event/tour-walk-in-the-gardens-158
LOCATION:Tohono Chul\, 7366 N. Paseo del Norte\, Tucson\, AZ\, 85704\, United States
CATEGORIES:Tour
END:VEVENT
END:VCALENDAR