BEGIN:VCALENDAR
VERSION:2.0
PRODID:-//Local Yard &amp; Garden Resources - ECPv6.15.20//NONSGML v1.0//EN
CALSCALE:GREGORIAN
METHOD:PUBLISH
X-WR-CALNAME:Local Yard &amp; Garden Resources
X-ORIGINAL-URL:https://localyardandgarden.com
X-WR-CALDESC:Events for Local Yard &amp; Garden Resources
REFRESH-INTERVAL;VALUE=DURATION:PT1H
X-Robots-Tag:noindex
X-PUBLISHED-TTL:PT1H
BEGIN:VTIMEZONE
TZID:America/Phoenix
BEGIN:STANDARD
TZOFFSETFROM:-0700
TZOFFSETTO:-0700
TZNAME:MST
DTSTART:20200101T000000
END:STANDARD
END:VTIMEZONE
BEGIN:VEVENT
DTSTART;TZID=America/Phoenix:20211021T093000
DTEND;TZID=America/Phoenix:20211021T110000
DTSTAMP:20260419T053752
CREATED:20210925T005147Z
LAST-MODIFIED:20211021T162220Z
UID:5297-1634808600-1634814000@localyardandgarden.com
SUMMARY:Paper Flower Marigolds for Día de los Muertos
DESCRIPTION:Marigolds (Cempazuchitl) are a staple of Día de los Muertos ofrendas (altars). Their vibrant colors and strong scents are said to attract souls of the departed back to the land of the living. Sandy Villegas of Luna’s Paper Designs will teach you step-by-step how to create marigold flowers and leaves from crepe paper to include in your own altar or fall decoration. All supplies are provided. Tuesday’s workshop is slightly longer and participants will create two marigolds. Less time to spare? Sign up for Thursday’s workshop where you will learn to craft one marigold. This outdoor workshop will be held on the patio outside of the Main Gallery. Participants are invited to view our Día de los Muertos Exhibition for inspiration. Masks are required indoors if you choose to visit the exhibition.
URL:https://localyardandgarden.com/event/paper-flower-marigolds-for-dia-de-los-muertos-2
LOCATION:Tohono Chul – Exhibit House\, 7366 N. Paseo del Norte\, Tucson\, AZ\, 85704\, United States
CATEGORIES:Special Event,Workshop
ATTACH;FMTTYPE=image/jpeg:https://localyardandgarden.com/wp-content/uploads/Paper_Marigolds_rectangle-UxhGkH.tmp_.jpg
ORGANIZER;CN="Karen Hayes":MAILTO:khayes@tohonochul.org
END:VEVENT
BEGIN:VEVENT
DTSTART;TZID=America/Phoenix:20211021T100000
DTEND;TZID=America/Phoenix:20211021T110000
DTSTAMP:20260419T053752
CREATED:20210831T233619Z
LAST-MODIFIED:20211021T162220Z
UID:5051-1634810400-1634814000@localyardandgarden.com
SUMMARY:Tour | Walk in the Gardens
DESCRIPTION:Experience Tohono Chul while learning some of the basics of the ecology of the Sonoran Desert.
URL:https://localyardandgarden.com/event/tour-walk-in-the-gardens-55
LOCATION:Tohono Chul\, 7366 N. Paseo del Norte\, Tucson\, AZ\, 85704\, United States
CATEGORIES:Tour
END:VEVENT
BEGIN:VEVENT
DTSTART;TZID=America/Phoenix:20211021T100000
DTEND;TZID=America/Phoenix:20211021T110000
DTSTAMP:20260419T053752
CREATED:20210831T233619Z
LAST-MODIFIED:20211021T162220Z
UID:5052-1634810400-1634814000@localyardandgarden.com
SUMMARY:Tour | Wildflowers: What’s Bloomin’?
DESCRIPTION:Bring your camera to capture the colors of spring and develop more than a nodding acquaintance with our annual wildflowers. \nView the Wildflower ID Guide here.
URL:https://localyardandgarden.com/event/tour-wildflowers-whats-bloomin-8
LOCATION:Tohono Chul\, 7366 N. Paseo del Norte\, Tucson\, AZ\, 85704\, United States
CATEGORIES:Tour
END:VEVENT
BEGIN:VEVENT
DTSTART;TZID=America/Phoenix:20211021T110000
DTEND;TZID=America/Phoenix:20211021T120000
DTSTAMP:20260419T053752
CREATED:20210831T233619Z
LAST-MODIFIED:20211021T162220Z
UID:5053-1634814000-1634817600@localyardandgarden.com
SUMMARY:Event | Gallery Buzz
DESCRIPTION:Get an in-depth and behind-the-scenes look at our changing art and cultural exhibits.
URL:https://localyardandgarden.com/event/event-gallery-buzz-6
LOCATION:Tohono Chul – Exhibit House\, 7366 N. Paseo del Norte\, Tucson\, AZ\, 85704\, United States
END:VEVENT
BEGIN:VEVENT
DTSTART;TZID=America/Phoenix:20211021T120000
DTEND;TZID=America/Phoenix:20211021T130000
DTSTAMP:20260419T053752
CREATED:20210831T233619Z
LAST-MODIFIED:20211021T162220Z
UID:5054-1634817600-1634821200@localyardandgarden.com
SUMMARY:Tour | Walk in the Gardens
DESCRIPTION:Experience Tohono Chul while learning some of the basics of the ecology of the Sonoran Desert.
URL:https://localyardandgarden.com/event/tour-walk-in-the-gardens-56
LOCATION:Tohono Chul\, 7366 N. Paseo del Norte\, Tucson\, AZ\, 85704\, United States
CATEGORIES:Tour
END:VEVENT
BEGIN:VEVENT
DTSTART;TZID=America/Phoenix:20211021T140000
DTEND;TZID=America/Phoenix:20211021T150000
DTSTAMP:20260419T053752
CREATED:20210831T233619Z
LAST-MODIFIED:20211021T162220Z
UID:5055-1634824800-1634828400@localyardandgarden.com
SUMMARY:Tour | Walk in the Gardens
DESCRIPTION:Experience Tohono Chul while learning some of the basics of the ecology of the Sonoran Desert.
URL:https://localyardandgarden.com/event/tour-walk-in-the-gardens-57
LOCATION:Tohono Chul\, 7366 N. Paseo del Norte\, Tucson\, AZ\, 85704\, United States
CATEGORIES:Tour
END:VEVENT
END:VCALENDAR